BEGIN:VCALENDAR
VERSION:2.0
PRODID:-//ZContent.net//ZapCalLib 1.0//EN
CALSCALE:GREGORIAN
METHOD:PUBLISH
BEGIN:VEVENT
UID:69e5fc106b561@usbands.org
SUMMARY:Ridley High School
DTSTART:20241012T150000
DTEND:20241012T150100
DTSTAMP:20260420T101232
LOCATION:Folsom\, PA
DESCRIPTION:Ridley High School
END:VEVENT
END:VCALENDAR
