BEGIN:VCALENDAR
VERSION:2.0
PRODID:-//ZContent.net//ZapCalLib 1.0//EN
CALSCALE:GREGORIAN
METHOD:PUBLISH
BEGIN:VEVENT
UID:69e5e89d3c178@usbands.org
SUMMARY:Bergenfield High School
DTSTART:20241013T100000
DTEND:20241013T150100
DTSTAMP:20260420T084933
LOCATION:Bergenfield\, NJ
DESCRIPTION:Bergenfield High School
END:VEVENT
END:VCALENDAR
