BEGIN:VCALENDAR
VERSION:2.0
PRODID:-//ZContent.net//ZapCalLib 1.0//EN
CALSCALE:GREGORIAN
METHOD:PUBLISH
BEGIN:VEVENT
UID:69e5fbb46654f@usbands.org
SUMMARY:Ark-La-Tex Regional
DTSTART:20241026T110000
DTEND:20241026T213000
DTSTAMP:20260420T101100
LOCATION:Bossier City\, LA
DESCRIPTION:Ark-La-Tex Regional
END:VEVENT
END:VCALENDAR
