BEGIN:VCALENDAR
VERSION:2.0
PRODID:-//ZContent.net//ZapCalLib 1.0//EN
CALSCALE:GREGORIAN
METHOD:PUBLISH
BEGIN:VEVENT
UID:69e5e8c330a07@usbands.org
SUMMARY:Burleson Regional
DTSTART:20241012T083000
DTEND:20241012T150100
DTSTAMP:20260420T085011
LOCATION:Burleson\, TX
DESCRIPTION:Burleson Regional
END:VEVENT
END:VCALENDAR
