BEGIN:VCALENDAR
VERSION:2.0
PRODID:-//ZContent.net//ZapCalLib 1.0//EN
CALSCALE:GREGORIAN
METHOD:PUBLISH
BEGIN:VEVENT
UID:69e5e8cab86a5@usbands.org
SUMMARY:Ludwig Musser Classic: Texas
DTSTART:20241012T060000
DTEND:20241012T150100
DTSTAMP:20260420T085018
LOCATION:Converse\, TX
DESCRIPTION:Ludwig Musser Classic: Texas
END:VEVENT
END:VCALENDAR
