BEGIN:VCALENDAR
VERSION:2.0
PRODID:-//ZContent.net//ZapCalLib 1.0//EN
CALSCALE:GREGORIAN
METHOD:PUBLISH
BEGIN:VEVENT
UID:69e5e89d5213b@usbands.org
SUMMARY:Southeastern Championships & STATS Grand Championships
DTSTART:20241109T090000
DTEND:20241109T200000
DTSTAMP:20260420T084933
LOCATION:Huntsville\, AL
DESCRIPTION:Southeastern Championships & STATS Grand Championships
END:VEVENT
END:VCALENDAR
