BEGIN:VCALENDAR
VERSION:2.0
PRODID:-//ZContent.net//ZapCalLib 1.0//EN
CALSCALE:GREGORIAN
METHOD:PUBLISH
BEGIN:VEVENT
UID:69e5e8c2367c1@usbands.org
SUMMARY:Southeastern Texas Championships
DTSTART:20241109T090000
DTEND:20241109T210000
DTSTAMP:20260420T085010
LOCATION:Katy\, TX
DESCRIPTION:Southeastern Texas Championships
END:VEVENT
END:VCALENDAR
