BEGIN:VCALENDAR
VERSION:2.0
PRODID:-//ZContent.net//ZapCalLib 1.0//EN
CALSCALE:GREGORIAN
METHOD:PUBLISH
BEGIN:VEVENT
UID:69e5fbb4928e7@usbands.org
SUMMARY:Connecticut State Championships
DTSTART:20241026T070000
DTEND:20241026T120100
DTSTAMP:20260420T101100
LOCATION:New Britain\, CT
DESCRIPTION:Connecticut State Championships
END:VEVENT
END:VCALENDAR
