BEGIN:VCALENDAR
VERSION:2.0
PRODID:-//ZContent.net//ZapCalLib 1.0//EN
CALSCALE:GREGORIAN
METHOD:PUBLISH
BEGIN:VEVENT
UID:69e5e8cadfbe0@usbands.org
SUMMARY:Massachusetts / Rhode Island State Championships
DTSTART:20241026T100000
DTEND:20241026T120100
DTSTAMP:20260420T085018
LOCATION:Stoughton\, MA
DESCRIPTION:Massachusetts / Rhode Island State Championships
END:VEVENT
END:VCALENDAR
