BEGIN:VCALENDAR
VERSION:2.0
PRODID:-//ZContent.net//ZapCalLib 1.0//EN
CALSCALE:GREGORIAN
METHOD:PUBLISH
BEGIN:VEVENT
UID:69e5e8c2f2453@usbands.org
SUMMARY:New Jersey State Championships (III A\, V A\, III O\, IV O)
DTSTART:20241026T070000
DTEND:20241026T120100
DTSTAMP:20260420T085010
LOCATION:Franklin Township\, NJ
DESCRIPTION:New Jersey State Championships (III A\, V A\, III O\, IV O)
END:VEVENT
END:VCALENDAR
