BEGIN:VCALENDAR
VERSION:2.0
PRODID:-//ZContent.net//ZapCalLib 1.0//EN
CALSCALE:GREGORIAN
METHOD:PUBLISH
BEGIN:VEVENT
UID:69e5e8c184e58@usbands.org
SUMMARY:New Jersey State Championships (IA\, II A\, IV A\, I O\, II O\, V O
 )
DTSTART:20241026T070000
DTEND:20241026T120100
DTSTAMP:20260420T085009
LOCATION:South Brunswick Township\, NJ
DESCRIPTION:New Jersey State Championships (IA\, II A\, IV A\, I O\, II O\,
  V O)
END:VEVENT
END:VCALENDAR
