BEGIN:VCALENDAR
VERSION:2.0
PRODID:-//ZContent.net//ZapCalLib 1.0//EN
CALSCALE:GREGORIAN
METHOD:PUBLISH
BEGIN:VEVENT
UID:69e5e517800e3@usbands.org
SUMMARY:Pennsylvania State Championships (III A\, V A\, II O\, III O)
DTSTART:20241026T130000
DTEND:20241026T190000
DTSTAMP:20260420T083431
LOCATION:Willow Grove\, PA
DESCRIPTION:Pennsylvania State Championships (III A\, V A\, II O\, III O)
END:VEVENT
END:VCALENDAR
