BEGIN:VCALENDAR
VERSION:2.0
PRODID:-//ZContent.net//ZapCalLib 1.0//EN
CALSCALE:GREGORIAN
METHOD:PUBLISH
BEGIN:VEVENT
UID:69e5fbb2a87c1@usbands.org
SUMMARY:New York State Championships
DTSTART:20241027T100000
DTEND:20241027T130000
DTSTAMP:20260420T101058
LOCATION:Lindenhurst\, NY
DESCRIPTION:New York State Championships
END:VEVENT
END:VCALENDAR
