BEGIN:VCALENDAR
VERSION:2.0
PRODID:-//ZContent.net//ZapCalLib 1.0//EN
CALSCALE:GREGORIAN
METHOD:PUBLISH
BEGIN:VEVENT
UID:69e5e51851b4e@usbands.org
SUMMARY:Mid-Atlantic Regional Championships
DTSTART:20241026T150000
DTEND:20241026T120100
DTSTAMP:20260420T083432
LOCATION:Camp Hill\, PA
DESCRIPTION:Mid-Atlantic Regional Championships
END:VEVENT
END:VCALENDAR
