BEGIN:VCALENDAR
VERSION:2.0
PRODID:-//ZContent.net//ZapCalLib 1.0//EN
CALSCALE:GREGORIAN
METHOD:PUBLISH
BEGIN:VEVENT
UID:69e88a9f4cced@usbands.org
SUMMARY:Abington Senior High School
DTSTART:20241026T150000
DTEND:20241026T120100
DTSTAMP:20260422T084519
LOCATION:Abington\, PA
DESCRIPTION:Abington Senior High School
END:VEVENT
END:VCALENDAR
