BEGIN:VCALENDAR
VERSION:2.0
PRODID:-//ZContent.net//ZapCalLib 1.0//EN
CALSCALE:GREGORIAN
METHOD:PUBLISH
BEGIN:VEVENT
UID:69e5fbd7a665b@usbands.org
SUMMARY:William Tennent High School
DTSTART:20241102T120000
DTEND:20241102T120100
DTSTAMP:20260420T101135
LOCATION:Warminster\, PA
DESCRIPTION:William Tennent High School
END:VEVENT
END:VCALENDAR
