BEGIN:VCALENDAR
VERSION:2.0
PRODID:-//ZContent.net//ZapCalLib 1.0//EN
CALSCALE:GREGORIAN
METHOD:PUBLISH
BEGIN:VEVENT
UID:69e5fbb0cb6c1@usbands.org
SUMMARY:North Houston Regional
DTSTART:20241012T080000
DTEND:20241012T150100
DTSTAMP:20260420T101056
LOCATION:Spring\, TX
DESCRIPTION:North Houston Regional
END:VEVENT
END:VCALENDAR
