BEGIN:VCALENDAR
VERSION:2.0
PRODID:-//ZContent.net//ZapCalLib 1.0//EN
CALSCALE:GREGORIAN
METHOD:PUBLISH
BEGIN:VEVENT
UID:69e5fbb1df2bd@usbands.org
SUMMARY:Burley High School
DTSTART:20241012T110000
DTEND:20241012T150100
DTSTAMP:20260420T101057
LOCATION:Burley\, ID
DESCRIPTION:Burley High School
END:VEVENT
END:VCALENDAR
