BEGIN:VCALENDAR
VERSION:2.0
PRODID:-//ZContent.net//ZapCalLib 1.0//EN
CALSCALE:GREGORIAN
METHOD:PUBLISH
BEGIN:VEVENT
UID:69e5f67ef1e30@usbands.org
SUMMARY:Frank Scott Bunnell High School
DTSTART:20241019T120000
DTEND:20241019T200000
DTSTAMP:20260420T094846
LOCATION:Stratford\, CT
DESCRIPTION:Frank Scott Bunnell High School
END:VEVENT
END:VCALENDAR
