BEGIN:VCALENDAR
VERSION:2.0
PRODID:-//ZContent.net//ZapCalLib 1.0//EN
CALSCALE:GREGORIAN
METHOD:PUBLISH
BEGIN:VEVENT
UID:69e5e8c93c9fa@usbands.org
SUMMARY:Southington High School
DTSTART:20241019T120000
DTEND:20241019T200000
DTSTAMP:20260420T085017
LOCATION:Southington\, CT
DESCRIPTION:Southington High School
END:VEVENT
END:VCALENDAR
